BEGIN:VCALENDAR
VERSION:2.0
PRODID:-//MOCS - ECPv6.15.14//NONSGML v1.0//EN
CALSCALE:GREGORIAN
METHOD:PUBLISH
X-WR-CALNAME:MOCS
X-ORIGINAL-URL:https://theoliveschool.org
X-WR-CALDESC:Events for MOCS
REFRESH-INTERVAL;VALUE=DURATION:PT1H
X-Robots-Tag:noindex
X-PUBLISHED-TTL:PT1H
BEGIN:VTIMEZONE
TZID:UTC
BEGIN:STANDARD
TZOFFSETFROM:+0000
TZOFFSETTO:+0000
TZNAME:UTC
DTSTART:20240101T000000
END:STANDARD
END:VTIMEZONE
BEGIN:VTIMEZONE
TZID:America/Chicago
BEGIN:DAYLIGHT
TZOFFSETFROM:-0600
TZOFFSETTO:-0500
TZNAME:CDT
DTSTART:20240310T080000
END:DAYLIGHT
BEGIN:STANDARD
TZOFFSETFROM:-0500
TZOFFSETTO:-0600
TZNAME:CST
DTSTART:20241103T070000
END:STANDARD
BEGIN:DAYLIGHT
TZOFFSETFROM:-0600
TZOFFSETTO:-0500
TZNAME:CDT
DTSTART:20250309T080000
END:DAYLIGHT
BEGIN:STANDARD
TZOFFSETFROM:-0500
TZOFFSETTO:-0600
TZNAME:CST
DTSTART:20251102T070000
END:STANDARD
BEGIN:DAYLIGHT
TZOFFSETFROM:-0600
TZOFFSETTO:-0500
TZNAME:CDT
DTSTART:20260308T080000
END:DAYLIGHT
BEGIN:STANDARD
TZOFFSETFROM:-0500
TZOFFSETTO:-0600
TZNAME:CST
DTSTART:20261101T070000
END:STANDARD
END:VTIMEZONE
BEGIN:VEVENT
DTSTART;VALUE=DATE:20250818
DTEND;VALUE=DATE:20250823
DTSTAMP:20260423T174556
CREATED:20250725T005940Z
LAST-MODIFIED:20250725T005940Z
UID:6231-1755475200-1755907199@theoliveschool.org
SUMMARY:Teacher In-Service
DESCRIPTION:
URL:https://theoliveschool.org/event/teacher-in-service/
CATEGORIES:Faculty Events
END:VEVENT
BEGIN:VEVENT
DTSTART;TZID=America/Chicago:20250814T190000
DTEND;TZID=America/Chicago:20250814T210000
DTSTAMP:20260423T174556
CREATED:20250805T201341Z
LAST-MODIFIED:20250805T201341Z
UID:6514-1755198000-1755205200@theoliveschool.org
SUMMARY:Football Away Game
DESCRIPTION:VS. Freedom Life (Natchitoches)
URL:https://theoliveschool.org/event/football-away-game-3/
CATEGORIES:Athletics
ATTACH;FMTTYPE=image/png:https://theoliveschool.org/wp-content/uploads/2025/08/4.png
END:VEVENT
BEGIN:VEVENT
DTSTART;TZID=America/Chicago:20250811T170000
DTEND;TZID=America/Chicago:20250811T190000
DTSTAMP:20260423T174556
CREATED:20250805T204250Z
LAST-MODIFIED:20250808T145612Z
UID:6527-1754931600-1754938800@theoliveschool.org
SUMMARY:Volleyball Away Game
DESCRIPTION:VS. NEBS (JV/Varsity)
URL:https://theoliveschool.org/event/volleyball-home-game/
LOCATION:MOCS Gym
CATEGORIES:Athletics
ATTACH;FMTTYPE=image/png:https://theoliveschool.org/wp-content/uploads/2025/08/2.png
END:VEVENT
BEGIN:VEVENT
DTSTART;TZID=America/Chicago:20250808T190000
DTEND;TZID=America/Chicago:20250808T210000
DTSTAMP:20260423T174556
CREATED:20250805T200414Z
LAST-MODIFIED:20250805T204609Z
UID:6508-1754679600-1754686800@theoliveschool.org
SUMMARY:Football Home Game
DESCRIPTION:VS. FBCS
URL:https://theoliveschool.org/event/football-home-game/
LOCATION:Eagle Field
CATEGORIES:Athletics
ATTACH;FMTTYPE=image/png:https://theoliveschool.org/wp-content/uploads/2025/08/3.png
END:VEVENT
BEGIN:VEVENT
DTSTART;TZID=America/Chicago:20250807T190000
DTEND;TZID=America/Chicago:20250807T210000
DTSTAMP:20260423T174556
CREATED:20250729T183427Z
LAST-MODIFIED:20250729T183446Z
UID:6457-1754593200-1754600400@theoliveschool.org
SUMMARY:Movie Night!
DESCRIPTION:Support the class of 2027 at movie night! Film begins at 7pm. Admission is $5; and popcorn\, water\, and lemonade will be available in for concessions.
URL:https://theoliveschool.org/event/movie-night/
LOCATION:MOCS Auditorium
CATEGORIES:Family Events
END:VEVENT
BEGIN:VEVENT
DTSTART;VALUE=DATE:20250804
DTEND;VALUE=DATE:20250809
DTSTAMP:20260423T174556
CREATED:20250725T010159Z
LAST-MODIFIED:20250731T162243Z
UID:6233-1754265600-1754697599@theoliveschool.org
SUMMARY:Eaglette Cheer Camp
DESCRIPTION:Who may register: K-4th grade girls \nCost: $125 ($75 if student already has a uniform) \nTime: 2-4pm \nPlease contact: BriAnna Waggoner (281-638-7947) for more information and to register
URL:https://theoliveschool.org/event/eaglette-cheer-camp/
LOCATION:MOCS Gym
CATEGORIES:Athletics
END:VEVENT
BEGIN:VEVENT
DTSTART;TZID=America/Chicago:20250801T190000
DTEND;TZID=America/Chicago:20250801T210000
DTSTAMP:20260423T174556
CREATED:20250729T171339Z
LAST-MODIFIED:20250729T183308Z
UID:6451-1754074800-1754082000@theoliveschool.org
SUMMARY:Movie Night!
DESCRIPTION:Support the class of 2026 at movie night! Film begins at 7pm. Admission is $5; and popcorn\, water\, and lemonade will be available in for concessions.
URL:https://theoliveschool.org/event/bingo-night/
LOCATION:MOCS Auditorium
CATEGORIES:Family Events
END:VEVENT
BEGIN:VEVENT
DTSTART;TZID=America/Chicago:20250731T120000
DTEND;TZID=America/Chicago:20250731T130000
DTSTAMP:20260423T174556
CREATED:20250725T004455Z
LAST-MODIFIED:20250726T142106Z
UID:6228-1753963200-1753966800@theoliveschool.org
SUMMARY:On-site Sports Physicals
DESCRIPTION:
URL:https://theoliveschool.org/event/on-site-sports-physicals/
LOCATION:MOCS Gym
CATEGORIES:Athletics
END:VEVENT
BEGIN:VEVENT
DTSTART;TZID=America/Chicago:20250726T200000
DTEND;TZID=America/Chicago:20250726T220000
DTSTAMP:20260423T174556
CREATED:20250725T003549Z
LAST-MODIFIED:20250726T140350Z
UID:6226-1753560000-1753567200@theoliveschool.org
SUMMARY:43rd Annual MOCS Rodeo
DESCRIPTION:
URL:https://theoliveschool.org/event/43rd-annual-mocs-rodeo-2/
LOCATION:Rodeo Arena
CATEGORIES:Fundraisers
END:VEVENT
BEGIN:VEVENT
DTSTART;TZID=America/Chicago:20250725T200000
DTEND;TZID=America/Chicago:20250725T220000
DTSTAMP:20260423T174556
CREATED:20250724T044547Z
LAST-MODIFIED:20250726T140248Z
UID:6136-1753473600-1753480800@theoliveschool.org
SUMMARY:43rd Annual MOCS Rodeo
DESCRIPTION:
URL:https://theoliveschool.org/event/43rd-annual-mocs-rodeo/
LOCATION:Rodeo Arena
CATEGORIES:Fundraisers
ATTACH;FMTTYPE=image/jpeg:https://theoliveschool.org/wp-content/uploads/2025/05/c80fe6d4-0ddf-414f-a4bf-1f9c7c479429.jpeg
END:VEVENT
END:VCALENDAR