BEGIN:VCALENDAR
VERSION:2.0
PRODID:-//MOCS - ECPv6.15.14//NONSGML v1.0//EN
CALSCALE:GREGORIAN
METHOD:PUBLISH
X-WR-CALNAME:MOCS
X-ORIGINAL-URL:https://theoliveschool.org
X-WR-CALDESC:Events for MOCS
REFRESH-INTERVAL;VALUE=DURATION:PT1H
X-Robots-Tag:noindex
X-PUBLISHED-TTL:PT1H
BEGIN:VTIMEZONE
TZID:America/Chicago
BEGIN:DAYLIGHT
TZOFFSETFROM:-0600
TZOFFSETTO:-0500
TZNAME:CDT
DTSTART:20240310T080000
END:DAYLIGHT
BEGIN:STANDARD
TZOFFSETFROM:-0500
TZOFFSETTO:-0600
TZNAME:CST
DTSTART:20241103T070000
END:STANDARD
BEGIN:DAYLIGHT
TZOFFSETFROM:-0600
TZOFFSETTO:-0500
TZNAME:CDT
DTSTART:20250309T080000
END:DAYLIGHT
BEGIN:STANDARD
TZOFFSETFROM:-0500
TZOFFSETTO:-0600
TZNAME:CST
DTSTART:20251102T070000
END:STANDARD
BEGIN:DAYLIGHT
TZOFFSETFROM:-0600
TZOFFSETTO:-0500
TZNAME:CDT
DTSTART:20260308T080000
END:DAYLIGHT
BEGIN:STANDARD
TZOFFSETFROM:-0500
TZOFFSETTO:-0600
TZNAME:CST
DTSTART:20261101T070000
END:STANDARD
END:VTIMEZONE
BEGIN:VTIMEZONE
TZID:UTC
BEGIN:STANDARD
TZOFFSETFROM:+0000
TZOFFSETTO:+0000
TZNAME:UTC
DTSTART:20240101T000000
END:STANDARD
END:VTIMEZONE
BEGIN:VEVENT
DTSTART;VALUE=DATE:20251009
DTEND;VALUE=DATE:20251014
DTSTAMP:20260423T045024
CREATED:20250724T224144Z
LAST-MODIFIED:20250724T224341Z
UID:6276-1759968000-1760399999@theoliveschool.org
SUMMARY:Fall/Columbus Day Holiday Break
DESCRIPTION:Teachers will be attending Abeka Academy’s Teacher Clinic in Florida October 9-10. There will be no school on Monday in observance of Columbus Day Holiday.
URL:https://theoliveschool.org/event/fall-break/
CATEGORIES:Holidays
END:VEVENT
BEGIN:VEVENT
DTSTART;TZID=America/Chicago:20251008T080000
DTEND;TZID=America/Chicago:20251008T113500
DTSTAMP:20260423T045024
CREATED:20250724T224032Z
LAST-MODIFIED:20250724T231108Z
UID:6274-1759910400-1759923300@theoliveschool.org
SUMMARY:HALF DAY of School
DESCRIPTION:School is dismissed at 11:35.
URL:https://theoliveschool.org/event/half-day-of-school/
CATEGORIES:Holidays
END:VEVENT
BEGIN:VEVENT
DTSTART;TZID=America/Chicago:20251007T170000
DTEND;TZID=America/Chicago:20251007T190000
DTSTAMP:20260423T045024
CREATED:20250805T214349Z
LAST-MODIFIED:20250805T214349Z
UID:6566-1759856400-1759863600@theoliveschool.org
SUMMARY:Volleyball Away Game
DESCRIPTION:VS. CHA (JV/Varsity)
URL:https://theoliveschool.org/event/volleyball-away-game-10/
CATEGORIES:Athletics
ATTACH;FMTTYPE=image/png:https://theoliveschool.org/wp-content/uploads/2025/08/2.png
END:VEVENT
BEGIN:VEVENT
DTSTART;TZID=America/Chicago:20251006T170000
DTEND;TZID=America/Chicago:20251006T190000
DTSTAMP:20260423T045024
CREATED:20250805T214236Z
LAST-MODIFIED:20250805T214236Z
UID:6564-1759770000-1759777200@theoliveschool.org
SUMMARY:Volleyball Away Game
DESCRIPTION:VS. WOGA (JV/Varsity)
URL:https://theoliveschool.org/event/volleyball-away-game-9/
CATEGORIES:Athletics
ATTACH;FMTTYPE=image/png:https://theoliveschool.org/wp-content/uploads/2025/08/2.png
END:VEVENT
BEGIN:VEVENT
DTSTART;TZID=America/Chicago:20251002T190000
DTEND;TZID=America/Chicago:20251002T210000
DTSTAMP:20260423T045024
CREATED:20250805T202211Z
LAST-MODIFIED:20250929T133704Z
UID:6523-1759431600-1759438800@theoliveschool.org
SUMMARY:Football Away Game
DESCRIPTION:VS. FBCS (Lafayette)
URL:https://theoliveschool.org/event/football-away-game-4/
CATEGORIES:Athletics
ATTACH;FMTTYPE=image/png:https://theoliveschool.org/wp-content/uploads/2025/08/4.png
END:VEVENT
BEGIN:VEVENT
DTSTART;TZID=America/Chicago:20251002T180000
DTEND;TZID=America/Chicago:20251002T200000
DTSTAMP:20260423T045024
CREATED:20250929T134108Z
LAST-MODIFIED:20250929T134108Z
UID:6609-1759428000-1759435200@theoliveschool.org
SUMMARY:Weagles Football Home Game
DESCRIPTION:11-man vs. Riverfield
URL:https://theoliveschool.org/event/weagles-football-home-game/
CATEGORIES:Athletics
END:VEVENT
BEGIN:VEVENT
DTSTART;VALUE=DATE:20251002
DTEND;VALUE=DATE:20251003
DTSTAMP:20260423T045024
CREATED:20250725T014228Z
LAST-MODIFIED:20250725T014228Z
UID:6349-1759363200-1759449599@theoliveschool.org
SUMMARY:Yearbook Photo Retakes
DESCRIPTION:
URL:https://theoliveschool.org/event/yearbook-photo-retakes/
CATEGORIES:School Events
ATTACH;FMTTYPE=image/png:https://theoliveschool.org/wp-content/uploads/2025/07/My-Paper-Cut-Out-Stop-Motion-Video-Facebook-Cover.png
END:VEVENT
BEGIN:VEVENT
DTSTART;VALUE=DATE:20251001
DTEND;VALUE=DATE:20251004
DTSTAMP:20260423T045024
CREATED:20250724T223907Z
LAST-MODIFIED:20250725T012421Z
UID:6272-1759276800-1759535999@theoliveschool.org
SUMMARY:Star Reading Test #2
DESCRIPTION:All students K-12 will take a reading test to measure their level of literacy.
URL:https://theoliveschool.org/event/star-reading-test-2/
CATEGORIES:Academics
ATTACH;FMTTYPE=image/png:https://theoliveschool.org/wp-content/uploads/2025/07/Renaissance-Star-Assessments-scaled.png
END:VEVENT
BEGIN:VEVENT
DTSTART;TZID=America/Chicago:20250930T180000
DTEND;TZID=America/Chicago:20250930T200000
DTSTAMP:20260423T045024
CREATED:20250929T134012Z
LAST-MODIFIED:20250929T134012Z
UID:6607-1759255200-1759262400@theoliveschool.org
SUMMARY:Weagles Football Away Game
DESCRIPTION:8-man game at Claiborne Academy
URL:https://theoliveschool.org/event/weagles-football-away-game/
CATEGORIES:Athletics
END:VEVENT
BEGIN:VEVENT
DTSTART;TZID=America/Chicago:20250930T170000
DTEND;TZID=America/Chicago:20250930T190000
DTSTAMP:20260423T045024
CREATED:20250805T214108Z
LAST-MODIFIED:20250805T214531Z
UID:6562-1759251600-1759258800@theoliveschool.org
SUMMARY:Volleyball Home Game
DESCRIPTION:VS. Psalms (JV/Varsity)
URL:https://theoliveschool.org/event/volleyball-home-game-10/
LOCATION:MOCS Gym
CATEGORIES:Athletics
ATTACH;FMTTYPE=image/png:https://theoliveschool.org/wp-content/uploads/2025/08/1.png
END:VEVENT
BEGIN:VEVENT
DTSTART;TZID=America/Chicago:20250929T170000
DTEND;TZID=America/Chicago:20250929T190000
DTSTAMP:20260423T045024
CREATED:20250805T214013Z
LAST-MODIFIED:20250805T214013Z
UID:6560-1759165200-1759172400@theoliveschool.org
SUMMARY:Volleyball Away Game
DESCRIPTION:VS. Ascension (JV/Varsity)
URL:https://theoliveschool.org/event/volleyball-away-game-8/
CATEGORIES:Athletics
ATTACH;FMTTYPE=image/png:https://theoliveschool.org/wp-content/uploads/2025/08/2.png
END:VEVENT
BEGIN:VEVENT
DTSTART;TZID=America/Chicago:20250927T183000
DTEND;TZID=America/Chicago:20250927T213000
DTSTAMP:20260423T045024
CREATED:20250724T215142Z
LAST-MODIFIED:20250724T215142Z
UID:6269-1758997800-1759008600@theoliveschool.org
SUMMARY:Homecoming Dance
DESCRIPTION:
URL:https://theoliveschool.org/event/homecoming-dance/
CATEGORIES:High School
END:VEVENT
BEGIN:VEVENT
DTSTART;TZID=America/Chicago:20250926T190000
DTEND;TZID=America/Chicago:20250926T210000
DTSTAMP:20260423T045024
CREATED:20250725T023633Z
LAST-MODIFIED:20250805T201906Z
UID:6264-1758913200-1758920400@theoliveschool.org
SUMMARY:Homecoming Football Game
DESCRIPTION:VS. Northshore
URL:https://theoliveschool.org/event/homecoming-game/
LOCATION:Eagle Field
CATEGORIES:Athletics
ATTACH;FMTTYPE=image/png:https://theoliveschool.org/wp-content/uploads/2025/08/3.png
END:VEVENT
BEGIN:VEVENT
DTSTART;TZID=America/Chicago:20250926T140000
DTEND;TZID=America/Chicago:20250926T143000
DTSTAMP:20260423T045024
CREATED:20250724T215030Z
LAST-MODIFIED:20250725T012946Z
UID:6267-1758895200-1758897000@theoliveschool.org
SUMMARY:Homecoming Court Presentation
DESCRIPTION:
URL:https://theoliveschool.org/event/homecoming-court-presentation/
LOCATION:MOCS Auditorium
CATEGORIES:School Events
END:VEVENT
BEGIN:VEVENT
DTSTART;TZID=America/Chicago:20250925T170000
DTEND;TZID=America/Chicago:20250925T190000
DTSTAMP:20260423T045024
CREATED:20250805T213850Z
LAST-MODIFIED:20250805T213850Z
UID:6558-1758819600-1758826800@theoliveschool.org
SUMMARY:Volleyball Away Game
DESCRIPTION:VS. AHSA (JV/Varsity)
URL:https://theoliveschool.org/event/volleyball-away-game-7/
CATEGORIES:Athletics
ATTACH;FMTTYPE=image/png:https://theoliveschool.org/wp-content/uploads/2025/08/2.png
END:VEVENT
BEGIN:VEVENT
DTSTART;TZID=America/Chicago:20250924T103000
DTEND;TZID=America/Chicago:20250924T130000
DTSTAMP:20260423T045024
CREATED:20250725T022903Z
LAST-MODIFIED:20250725T022903Z
UID:6261-1758709800-1758718800@theoliveschool.org
SUMMARY:Homecoming Court Mother/Daughter Tea
DESCRIPTION:
URL:https://theoliveschool.org/event/homecoming-court-mother-daughter-tea/
CATEGORIES:High School
END:VEVENT
BEGIN:VEVENT
DTSTART;TZID=America/Chicago:20250924T080000
DTEND;TZID=America/Chicago:20250924T090000
DTSTAMP:20260423T045024
CREATED:20250725T020623Z
LAST-MODIFIED:20250725T012743Z
UID:6255-1758700800-1758704400@theoliveschool.org
SUMMARY:See You @ The Pole Prayer Rally
DESCRIPTION:
URL:https://theoliveschool.org/event/see-you-the-pole-prayer-rally/
CATEGORIES:School Events
ATTACH;FMTTYPE=image/png:https://theoliveschool.org/wp-content/uploads/2025/07/White-Blue-Red-American-Independence-Day-Instagram-Post.png
END:VEVENT
BEGIN:VEVENT
DTSTART;TZID=America/Chicago:20250923T170000
DTEND;TZID=America/Chicago:20250923T190000
DTSTAMP:20260423T045024
CREATED:20250805T213654Z
LAST-MODIFIED:20250805T213654Z
UID:6556-1758646800-1758654000@theoliveschool.org
SUMMARY:Volleyball Away Game
DESCRIPTION:VS. Lincoln Prep (JV/Varsity)
URL:https://theoliveschool.org/event/volleyball-away-game-6/
CATEGORIES:Athletics
ATTACH;FMTTYPE=image/png:https://theoliveschool.org/wp-content/uploads/2025/08/2.png
END:VEVENT
BEGIN:VEVENT
DTSTART;TZID=America/Chicago:20250922T170000
DTEND;TZID=America/Chicago:20250922T190000
DTSTAMP:20260423T045024
CREATED:20250805T213544Z
LAST-MODIFIED:20250805T213544Z
UID:6554-1758560400-1758567600@theoliveschool.org
SUMMARY:Volleyball Away Game
DESCRIPTION:VS. CCA (JV/Varsity)
URL:https://theoliveschool.org/event/volleyball-away-game-5/
CATEGORIES:Athletics
ATTACH;FMTTYPE=image/png:https://theoliveschool.org/wp-content/uploads/2025/08/2.png
END:VEVENT
BEGIN:VEVENT
DTSTART;VALUE=DATE:20250922
DTEND;VALUE=DATE:20250927
DTSTAMP:20260423T045024
CREATED:20250725T022257Z
LAST-MODIFIED:20250725T010212Z
UID:6257-1758499200-1758931199@theoliveschool.org
SUMMARY:Homecoming Week
DESCRIPTION:
URL:https://theoliveschool.org/event/homecoming-week/
CATEGORIES:School Events
ATTACH;FMTTYPE=image/png:https://theoliveschool.org/wp-content/uploads/2025/07/Fiesta-Homecoming-2025-shirt-Facebook-Cover.png
END:VEVENT
BEGIN:VEVENT
DTSTART;TZID=America/Chicago:20250919T190000
DTEND;TZID=America/Chicago:20250919T210000
DTSTAMP:20260423T045024
CREATED:20250806T201447Z
LAST-MODIFIED:20250806T201944Z
UID:6568-1758308400-1758315600@theoliveschool.org
SUMMARY:Football Alumni Game
DESCRIPTION:
URL:https://theoliveschool.org/event/football-alumni-game/
LOCATION:Eagle Field
CATEGORIES:Athletics
ATTACH;FMTTYPE=image/png:https://theoliveschool.org/wp-content/uploads/2025/08/3.png
END:VEVENT
BEGIN:VEVENT
DTSTART;TZID=America/Chicago:20250916T170000
DTEND;TZID=America/Chicago:20250916T190000
DTSTAMP:20260423T045024
CREATED:20250805T213421Z
LAST-MODIFIED:20250805T213421Z
UID:6551-1758042000-1758049200@theoliveschool.org
SUMMARY:Volleyball Away Game
DESCRIPTION:VS. ARCA (JV/Varsity)
URL:https://theoliveschool.org/event/volleyball-away-game-4/
CATEGORIES:Athletics
ATTACH;FMTTYPE=image/png:https://theoliveschool.org/wp-content/uploads/2025/08/2.png
END:VEVENT
BEGIN:VEVENT
DTSTART;TZID=America/Chicago:20250915T170000
DTEND;TZID=America/Chicago:20250915T190000
DTSTAMP:20260423T045024
CREATED:20250805T213250Z
LAST-MODIFIED:20250805T213250Z
UID:6549-1757955600-1757962800@theoliveschool.org
SUMMARY:Volleyball Home Game
DESCRIPTION:VS. Emerson (JV/Varsity)
URL:https://theoliveschool.org/event/volleyball-home-game-9/
LOCATION:MOCS Gym
CATEGORIES:Athletics
ATTACH;FMTTYPE=image/png:https://theoliveschool.org/wp-content/uploads/2025/08/1.png
END:VEVENT
BEGIN:VEVENT
DTSTART;TZID=America/Chicago:20250912T190000
DTEND;TZID=America/Chicago:20250912T210000
DTSTAMP:20260423T045024
CREATED:20250805T201743Z
LAST-MODIFIED:20250805T204526Z
UID:6518-1757703600-1757710800@theoliveschool.org
SUMMARY:Football Home Game
DESCRIPTION:VS. SWLA
URL:https://theoliveschool.org/event/football-home-game-3/
LOCATION:Eagle Field
CATEGORIES:Athletics
ATTACH;FMTTYPE=image/png:https://theoliveschool.org/wp-content/uploads/2025/08/3.png
END:VEVENT
BEGIN:VEVENT
DTSTART;TZID=America/Chicago:20250911T170000
DTEND;TZID=America/Chicago:20250911T190000
DTSTAMP:20260423T045024
CREATED:20250805T213134Z
LAST-MODIFIED:20250805T213134Z
UID:6547-1757610000-1757617200@theoliveschool.org
SUMMARY:Volleyball Away Game
DESCRIPTION:VS. Lake Area (JV/Varsity)
URL:https://theoliveschool.org/event/volleyball-away-game-3/
CATEGORIES:Athletics
ATTACH;FMTTYPE=image/png:https://theoliveschool.org/wp-content/uploads/2025/08/2.png
END:VEVENT
BEGIN:VEVENT
DTSTART;VALUE=DATE:20250910
DTEND;VALUE=DATE:20250911
DTSTAMP:20260423T045024
CREATED:20250725T013835Z
LAST-MODIFIED:20250731T152547Z
UID:6250-1757462400-1757548799@theoliveschool.org
SUMMARY:Yearbook Picture Day!
DESCRIPTION:
URL:https://theoliveschool.org/event/yearbook-picture-day/
CATEGORIES:School Events
ATTACH;FMTTYPE=image/png:https://theoliveschool.org/wp-content/uploads/2025/07/My-Paper-Cut-Out-Stop-Motion-Video-Facebook-Cover.png
END:VEVENT
BEGIN:VEVENT
DTSTART;TZID=America/Chicago:20250909T170000
DTEND;TZID=America/Chicago:20250909T190000
DTSTAMP:20260423T045024
CREATED:20250805T212608Z
LAST-MODIFIED:20250805T212608Z
UID:6545-1757437200-1757444400@theoliveschool.org
SUMMARY:Volleyball Away Game
DESCRIPTION:VS. FORCE (JV/Varsity)
URL:https://theoliveschool.org/event/volleyball-away-game-2/
CATEGORIES:Athletics
ATTACH;FMTTYPE=image/png:https://theoliveschool.org/wp-content/uploads/2025/08/2.png
END:VEVENT
BEGIN:VEVENT
DTSTART;TZID=America/Chicago:20250908T170000
DTEND;TZID=America/Chicago:20250908T190000
DTSTAMP:20260423T045024
CREATED:20250805T212352Z
LAST-MODIFIED:20250805T212944Z
UID:6543-1757350800-1757358000@theoliveschool.org
SUMMARY:Volleyball Home Game
DESCRIPTION:VS. NEBS (JV/Varsity)
URL:https://theoliveschool.org/event/volleyball-home-game-8/
LOCATION:MOCS Gym
CATEGORIES:Athletics
ATTACH;FMTTYPE=image/png:https://theoliveschool.org/wp-content/uploads/2025/08/1.png
END:VEVENT
BEGIN:VEVENT
DTSTART;VALUE=DATE:20250908
DTEND;VALUE=DATE:20250913
DTSTAMP:20260423T045024
CREATED:20250725T013209Z
LAST-MODIFIED:20250725T013209Z
UID:6248-1757289600-1757721599@theoliveschool.org
SUMMARY:Community Hero Appreciation Week
DESCRIPTION:Military and first responders are specially invited to all sports games scheduled for this week. We will take time to honor our community heroes during the evening.
URL:https://theoliveschool.org/event/community-hero-appreciation-week/
CATEGORIES:Athletics
END:VEVENT
BEGIN:VEVENT
DTSTART;VALUE=DATE:20250906
DTEND;VALUE=DATE:20250907
DTSTAMP:20260423T045024
CREATED:20250725T012940Z
LAST-MODIFIED:20250729T200214Z
UID:6246-1757116800-1757203199@theoliveschool.org
SUMMARY:ACT
DESCRIPTION:Register by August 1; Late registration by August 19
URL:https://theoliveschool.org/event/act/
CATEGORIES:Academics,High School
ATTACH;FMTTYPE=image/png:https://theoliveschool.org/wp-content/uploads/2025/07/download.png
END:VEVENT
END:VCALENDAR