BEGIN:VCALENDAR
VERSION:2.0
PRODID:-//MOCS - ECPv6.15.14//NONSGML v1.0//EN
CALSCALE:GREGORIAN
METHOD:PUBLISH
X-WR-CALNAME:MOCS
X-ORIGINAL-URL:https://theoliveschool.org
X-WR-CALDESC:Events for MOCS
REFRESH-INTERVAL;VALUE=DURATION:PT1H
X-Robots-Tag:noindex
X-PUBLISHED-TTL:PT1H
BEGIN:VTIMEZONE
TZID:America/Chicago
BEGIN:DAYLIGHT
TZOFFSETFROM:-0600
TZOFFSETTO:-0500
TZNAME:CDT
DTSTART:20250309T080000
END:DAYLIGHT
BEGIN:STANDARD
TZOFFSETFROM:-0500
TZOFFSETTO:-0600
TZNAME:CST
DTSTART:20251102T070000
END:STANDARD
BEGIN:DAYLIGHT
TZOFFSETFROM:-0600
TZOFFSETTO:-0500
TZNAME:CDT
DTSTART:20260308T080000
END:DAYLIGHT
BEGIN:STANDARD
TZOFFSETFROM:-0500
TZOFFSETTO:-0600
TZNAME:CST
DTSTART:20261101T070000
END:STANDARD
BEGIN:DAYLIGHT
TZOFFSETFROM:-0600
TZOFFSETTO:-0500
TZNAME:CDT
DTSTART:20270314T080000
END:DAYLIGHT
BEGIN:STANDARD
TZOFFSETFROM:-0500
TZOFFSETTO:-0600
TZNAME:CST
DTSTART:20271107T070000
END:STANDARD
END:VTIMEZONE
BEGIN:VEVENT
DTSTART;VALUE=DATE:20260408
DTEND;VALUE=DATE:20260411
DTSTAMP:20260422T171016
CREATED:20250726T143252Z
LAST-MODIFIED:20250726T143252Z
UID:6406-1775606400-1775865599@theoliveschool.org
SUMMARY:Star Reading Test #6
DESCRIPTION:All students K-12 will take a reading test to measure their level of literacy.
URL:https://theoliveschool.org/event/star-reading-test-6/
CATEGORIES:Academics
ATTACH;FMTTYPE=image/png:https://theoliveschool.org/wp-content/uploads/2025/07/Renaissance-Star-Assessments-scaled.png
END:VEVENT
BEGIN:VEVENT
DTSTART;TZID=America/Chicago:20260410T180000
DTEND;TZID=America/Chicago:20260410T210000
DTSTAMP:20260422T171016
CREATED:20250725T031024Z
LAST-MODIFIED:20260113T204733Z
UID:6393-1775844000-1775854800@theoliveschool.org
SUMMARY:Prom
DESCRIPTION:Juniors and Seniors only
URL:https://theoliveschool.org/event/prom-tentative/
CATEGORIES:High School
END:VEVENT
BEGIN:VEVENT
DTSTART;VALUE=DATE:20260411
DTEND;VALUE=DATE:20260412
DTSTAMP:20260422T171016
CREATED:20250726T143501Z
LAST-MODIFIED:20250726T143501Z
UID:6408-1775865600-1775951999@theoliveschool.org
SUMMARY:State Track Meet
DESCRIPTION:
URL:https://theoliveschool.org/event/state-track-meet/
LOCATION:LCU in Pineville
CATEGORIES:Athletics
END:VEVENT
BEGIN:VEVENT
DTSTART;VALUE=DATE:20260411
DTEND;VALUE=DATE:20260412
DTSTAMP:20260422T171016
CREATED:20250726T143645Z
LAST-MODIFIED:20250726T143645Z
UID:6410-1775865600-1775951999@theoliveschool.org
SUMMARY:ACT
DESCRIPTION:Register by March 6; Late registration by March 24
URL:https://theoliveschool.org/event/act-5/
CATEGORIES:Academics,High School
ATTACH;FMTTYPE=image/png:https://theoliveschool.org/wp-content/uploads/2025/07/download.png
END:VEVENT
BEGIN:VEVENT
DTSTART;TZID=America/Chicago:20260423T183000
DTEND;TZID=America/Chicago:20260423T210000
DTSTAMP:20260422T171016
CREATED:20250729T022602Z
LAST-MODIFIED:20250729T022602Z
UID:6418-1776969000-1776978000@theoliveschool.org
SUMMARY:Sports Banquet
DESCRIPTION:
URL:https://theoliveschool.org/event/sports-banquet/
LOCATION:MOCS Gym
CATEGORIES:Athletics
END:VEVENT
BEGIN:VEVENT
DTSTART;VALUE=DATE:20260424
DTEND;VALUE=DATE:20260426
DTSTAMP:20260422T171016
CREATED:20250729T022702Z
LAST-MODIFIED:20250729T022702Z
UID:6420-1776988800-1777161599@theoliveschool.org
SUMMARY:Softball Championships
DESCRIPTION:
URL:https://theoliveschool.org/event/softball-championships/
CATEGORIES:Athletics
END:VEVENT
BEGIN:VEVENT
DTSTART;TZID=America/Chicago:20260424T130000
DTEND;TZID=America/Chicago:20260424T150000
DTSTAMP:20260422T171016
CREATED:20260319T162814Z
LAST-MODIFIED:20260319T162814Z
UID:6707-1777035600-1777042800@theoliveschool.org
SUMMARY:Clean up the BOOT
DESCRIPTION:High school seniors will serve their community by helping to clean up roadsides.
URL:https://theoliveschool.org/event/clean-up-the-boot/
CATEGORIES:High School
END:VEVENT
BEGIN:VEVENT
DTSTART;TZID=America/Chicago:20260429T083000
DTEND;TZID=America/Chicago:20260429T090000
DTSTAMP:20260422T171016
CREATED:20250726T143818Z
LAST-MODIFIED:20260304T134416Z
UID:6412-1777451400-1777453200@theoliveschool.org
SUMMARY:Junior Ring Ceremony
DESCRIPTION:
URL:https://theoliveschool.org/event/tentative-junior-ring-ceremony/
LOCATION:MOCS Auditorium
CATEGORIES:High School,School Events
END:VEVENT
BEGIN:VEVENT
DTSTART;VALUE=DATE:20260430
DTEND;VALUE=DATE:20260502
DTSTAMP:20260422T171016
CREATED:20250729T022802Z
LAST-MODIFIED:20250729T022802Z
UID:6422-1777507200-1777679999@theoliveschool.org
SUMMARY:Senior Finals!
DESCRIPTION:
URL:https://theoliveschool.org/event/senior-finals/
CATEGORIES:Academics,High School
END:VEVENT
BEGIN:VEVENT
DTSTART;VALUE=DATE:20260501
DTEND;VALUE=DATE:20260502
DTSTAMP:20260422T171016
CREATED:20250729T024131Z
LAST-MODIFIED:20250805T212726Z
UID:6424-1777593600-1777679999@theoliveschool.org
SUMMARY:MOCS Drama Production and Taco Buffet
DESCRIPTION:Matinee showing @1:30pm \nTaco Bar @6pm \nEvening showing @7pm
URL:https://theoliveschool.org/event/mocs-drama-production-and-taco-buffet/
LOCATION:MOCS Auditorium
CATEGORIES:Arts
END:VEVENT
BEGIN:VEVENT
DTSTART;VALUE=DATE:20260504
DTEND;VALUE=DATE:20260509
DTSTAMP:20260422T171016
CREATED:20250726T144837Z
LAST-MODIFIED:20260417T133515Z
UID:6414-1777852800-1778284799@theoliveschool.org
SUMMARY:Stanford Achievement Testing
DESCRIPTION:Pre-K through 8th grade will receive a standardized test.
URL:https://theoliveschool.org/event/stanford-achievement-testing/
CATEGORIES:Academics,School Events
ATTACH;FMTTYPE=image/png:https://theoliveschool.org/wp-content/uploads/2025/07/download-1.png
END:VEVENT
BEGIN:VEVENT
DTSTART;VALUE=DATE:20260504
DTEND;VALUE=DATE:20260509
DTSTAMP:20260422T171016
CREATED:20250729T024318Z
LAST-MODIFIED:20250729T024318Z
UID:6426-1777852800-1778284799@theoliveschool.org
SUMMARY:EOC Testing
DESCRIPTION:High school students will be scheduled to take state End of Course Examinations throughout the week.
URL:https://theoliveschool.org/event/eoc-testing/
CATEGORIES:Academics,High School
END:VEVENT
BEGIN:VEVENT
DTSTART;VALUE=DATE:20260504
DTEND;VALUE=DATE:20260509
DTSTAMP:20260422T171016
CREATED:20260319T154324Z
LAST-MODIFIED:20260319T154324Z
UID:6705-1777852800-1778284799@theoliveschool.org
SUMMARY:Teacher Appreciation Week
DESCRIPTION:
URL:https://theoliveschool.org/event/teacher-appreciation-week/
CATEGORIES:Faculty Events
END:VEVENT
BEGIN:VEVENT
DTSTART;TZID=America/Chicago:20260508T190000
DTEND;TZID=America/Chicago:20260508T210000
DTSTAMP:20260422T171016
CREATED:20250729T024424Z
LAST-MODIFIED:20250729T024424Z
UID:6428-1778266800-1778274000@theoliveschool.org
SUMMARY:Senior Graduation
DESCRIPTION:
URL:https://theoliveschool.org/event/senior-graduation/
LOCATION:MOCS Auditorium
CATEGORIES:High School,School Events
END:VEVENT
BEGIN:VEVENT
DTSTART;VALUE=DATE:20260513
DTEND;VALUE=DATE:20260516
DTSTAMP:20260422T171016
CREATED:20250729T025032Z
LAST-MODIFIED:20250729T025032Z
UID:6434-1778630400-1778889599@theoliveschool.org
SUMMARY:Star Reading Test #7
DESCRIPTION:
URL:https://theoliveschool.org/event/star-reading-test-7/
CATEGORIES:Academics
ATTACH;FMTTYPE=image/png:https://theoliveschool.org/wp-content/uploads/2025/07/Renaissance-Star-Assessments-scaled.png
END:VEVENT
BEGIN:VEVENT
DTSTART;TZID=America/Chicago:20260514T190000
DTEND;TZID=America/Chicago:20260514T200000
DTSTAMP:20260422T171016
CREATED:20250729T024722Z
LAST-MODIFIED:20260420T010107Z
UID:6432-1778785200-1778788800@theoliveschool.org
SUMMARY:Kindergarten Graduation
DESCRIPTION:
URL:https://theoliveschool.org/event/kindergarten-graduation/
CATEGORIES:School Events
END:VEVENT
BEGIN:VEVENT
DTSTART;VALUE=DATE:20260515
DTEND;VALUE=DATE:20260516
DTSTAMP:20260422T171016
CREATED:20250729T024559Z
LAST-MODIFIED:20250729T024753Z
UID:6430-1778803200-1778889599@theoliveschool.org
SUMMARY:Field Day!!
DESCRIPTION:
URL:https://theoliveschool.org/event/field-day/
CATEGORIES:Family Events,School Events
END:VEVENT
BEGIN:VEVENT
DTSTART;TZID=America/Chicago:20260520T083000
DTEND;TZID=America/Chicago:20260520T100000
DTSTAMP:20260422T171016
CREATED:20250729T025231Z
LAST-MODIFIED:20250729T025231Z
UID:6436-1779265800-1779271200@theoliveschool.org
SUMMARY:Awards Chapel; Elementary's Last Day!; Yearbook Distribution
DESCRIPTION:
URL:https://theoliveschool.org/event/awards-chapel-elementarys-last-day-yearbook-distribution/
CATEGORIES:Family Events
END:VEVENT
BEGIN:VEVENT
DTSTART;VALUE=DATE:20260521
DTEND;VALUE=DATE:20260523
DTSTAMP:20260422T171016
CREATED:20250729T030255Z
LAST-MODIFIED:20250729T030255Z
UID:6438-1779321600-1779494399@theoliveschool.org
SUMMARY:Final Exams
DESCRIPTION:Final exams for 7th-12th grades will be administered. School will be dismissed by noon.
URL:https://theoliveschool.org/event/final-exams/
CATEGORIES:Academics
END:VEVENT
BEGIN:VEVENT
DTSTART;VALUE=DATE:20260526
DTEND;VALUE=DATE:20260528
DTSTAMP:20260422T171016
CREATED:20250729T030348Z
LAST-MODIFIED:20250729T030348Z
UID:6440-1779753600-1779926399@theoliveschool.org
SUMMARY:Teacher work/clean-up days
DESCRIPTION:
URL:https://theoliveschool.org/event/teacher-work-clean-up-days/
CATEGORIES:Faculty Events
END:VEVENT
BEGIN:VEVENT
DTSTART;VALUE=DATE:20260527
DTEND;VALUE=DATE:20260528
DTSTAMP:20260422T171016
CREATED:20250729T030531Z
LAST-MODIFIED:20260305T212342Z
UID:6442-1779840000-1779926399@theoliveschool.org
SUMMARY:Final Report Cards Released
DESCRIPTION:Final report cards will be sent home to every family with up-to-date accounts.
URL:https://theoliveschool.org/event/final-report-cards-released/
CATEGORIES:Academics
END:VEVENT
BEGIN:VEVENT
DTSTART;TZID=America/Chicago:20260724T200000
DTEND;TZID=America/Chicago:20260725T220000
DTSTAMP:20260422T171016
CREATED:20250729T030930Z
LAST-MODIFIED:20250729T030931Z
UID:6446-1784923200-1785016800@theoliveschool.org
SUMMARY:MOCS 44th Annual Rodeo
DESCRIPTION:8pm nightly
URL:https://theoliveschool.org/event/mocs-44th-annual-rodeo/
CATEGORIES:Family Events,Fundraisers
END:VEVENT
END:VCALENDAR