BEGIN:VCALENDAR
VERSION:2.0
PRODID:-//MOCS - ECPv6.15.14//NONSGML v1.0//EN
CALSCALE:GREGORIAN
METHOD:PUBLISH
X-WR-CALNAME:MOCS
X-ORIGINAL-URL:https://theoliveschool.org
X-WR-CALDESC:Events for MOCS
REFRESH-INTERVAL;VALUE=DURATION:PT1H
X-Robots-Tag:noindex
X-PUBLISHED-TTL:PT1H
BEGIN:VTIMEZONE
TZID:America/Chicago
BEGIN:DAYLIGHT
TZOFFSETFROM:-0600
TZOFFSETTO:-0500
TZNAME:CDT
DTSTART:20250309T080000
END:DAYLIGHT
BEGIN:STANDARD
TZOFFSETFROM:-0500
TZOFFSETTO:-0600
TZNAME:CST
DTSTART:20251102T070000
END:STANDARD
BEGIN:DAYLIGHT
TZOFFSETFROM:-0600
TZOFFSETTO:-0500
TZNAME:CDT
DTSTART:20260308T080000
END:DAYLIGHT
BEGIN:STANDARD
TZOFFSETFROM:-0500
TZOFFSETTO:-0600
TZNAME:CST
DTSTART:20261101T070000
END:STANDARD
BEGIN:DAYLIGHT
TZOFFSETFROM:-0600
TZOFFSETTO:-0500
TZNAME:CDT
DTSTART:20270314T080000
END:DAYLIGHT
BEGIN:STANDARD
TZOFFSETFROM:-0500
TZOFFSETTO:-0600
TZNAME:CST
DTSTART:20271107T070000
END:STANDARD
END:VTIMEZONE
BEGIN:VEVENT
DTSTART;VALUE=DATE:20260411
DTEND;VALUE=DATE:20260412
DTSTAMP:20260422T194706
CREATED:20250726T143645Z
LAST-MODIFIED:20250726T143645Z
UID:6410-1775865600-1775951999@theoliveschool.org
SUMMARY:ACT
DESCRIPTION:Register by March 6; Late registration by March 24
URL:https://theoliveschool.org/event/act-5/
CATEGORIES:Academics,High School
ATTACH;FMTTYPE=image/png:https://theoliveschool.org/wp-content/uploads/2025/07/download.png
END:VEVENT
BEGIN:VEVENT
DTSTART;VALUE=DATE:20260411
DTEND;VALUE=DATE:20260412
DTSTAMP:20260422T194706
CREATED:20250726T143501Z
LAST-MODIFIED:20250726T143501Z
UID:6408-1775865600-1775951999@theoliveschool.org
SUMMARY:State Track Meet
DESCRIPTION:
URL:https://theoliveschool.org/event/state-track-meet/
LOCATION:LCU in Pineville
CATEGORIES:Athletics
END:VEVENT
BEGIN:VEVENT
DTSTART;TZID=America/Chicago:20260410T180000
DTEND;TZID=America/Chicago:20260410T210000
DTSTAMP:20260422T194706
CREATED:20250725T031024Z
LAST-MODIFIED:20260113T204733Z
UID:6393-1775844000-1775854800@theoliveschool.org
SUMMARY:Prom
DESCRIPTION:Juniors and Seniors only
URL:https://theoliveschool.org/event/prom-tentative/
CATEGORIES:High School
END:VEVENT
BEGIN:VEVENT
DTSTART;VALUE=DATE:20260408
DTEND;VALUE=DATE:20260411
DTSTAMP:20260422T194706
CREATED:20250726T143252Z
LAST-MODIFIED:20250726T143252Z
UID:6406-1775606400-1775865599@theoliveschool.org
SUMMARY:Star Reading Test #6
DESCRIPTION:All students K-12 will take a reading test to measure their level of literacy.
URL:https://theoliveschool.org/event/star-reading-test-6/
CATEGORIES:Academics
ATTACH;FMTTYPE=image/png:https://theoliveschool.org/wp-content/uploads/2025/07/Renaissance-Star-Assessments-scaled.png
END:VEVENT
BEGIN:VEVENT
DTSTART;VALUE=DATE:20260403
DTEND;VALUE=DATE:20260404
DTSTAMP:20260422T194706
CREATED:20250726T143129Z
LAST-MODIFIED:20260216T212909Z
UID:6404-1775174400-1775260799@theoliveschool.org
SUMMARY:Easter Good Friday Break
DESCRIPTION:NO SCHOOL!!
URL:https://theoliveschool.org/event/easter-holiday-break/
CATEGORIES:Holidays
END:VEVENT
BEGIN:VEVENT
DTSTART;TZID=America/Chicago:20260328T100000
DTEND;TZID=America/Chicago:20260328T170000
DTSTAMP:20260422T194706
CREATED:20251203T154018Z
LAST-MODIFIED:20251203T154018Z
UID:6632-1774692000-1774717200@theoliveschool.org
SUMMARY:Annual Spring Auction (Yard)
DESCRIPTION:6113 Hwy 518
URL:https://theoliveschool.org/event/annual-spring-auction-yard/
CATEGORIES:Fundraisers,School Events
END:VEVENT
BEGIN:VEVENT
DTSTART;VALUE=DATE:20260328
DTEND;VALUE=DATE:20260329
DTSTAMP:20260422T194706
CREATED:20250726T143005Z
LAST-MODIFIED:20250726T143005Z
UID:6401-1774656000-1774742399@theoliveschool.org
SUMMARY:Regional Track Meet
DESCRIPTION:
URL:https://theoliveschool.org/event/regional-track-meet/
LOCATION:Airline High School
CATEGORIES:Athletics
END:VEVENT
BEGIN:VEVENT
DTSTART;VALUE=DATE:20260323
DTEND;VALUE=DATE:20260328
DTSTAMP:20260422T194706
CREATED:20260105T214755Z
LAST-MODIFIED:20260105T214755Z
UID:6654-1774224000-1774655999@theoliveschool.org
SUMMARY:Spring Break
DESCRIPTION:
URL:https://theoliveschool.org/event/spring-break/
CATEGORIES:Holidays
END:VEVENT
BEGIN:VEVENT
DTSTART;TZID=America/Chicago:20260320T080000
DTEND;TZID=America/Chicago:20260320T170000
DTSTAMP:20260422T194706
CREATED:20251203T153904Z
LAST-MODIFIED:20251203T153904Z
UID:6630-1773993600-1774026000@theoliveschool.org
SUMMARY:Annual Spring Auction (Gym)
DESCRIPTION:6113 Hwy 518 \n 
URL:https://theoliveschool.org/event/annual-spring-auction-gym-2/
CATEGORIES:Fundraisers,School Events
END:VEVENT
BEGIN:VEVENT
DTSTART;VALUE=DATE:20260320
DTEND;VALUE=DATE:20260321
DTSTAMP:20260422T194706
CREATED:20250725T031208Z
LAST-MODIFIED:20250725T031229Z
UID:6395-1773964800-1774051199@theoliveschool.org
SUMMARY:End of 3rd Quarter
DESCRIPTION:
URL:https://theoliveschool.org/event/end-of-3rd-quarter/
CATEGORIES:Academics
ATTACH;FMTTYPE=image/png:https://theoliveschool.org/wp-content/uploads/2025/07/End-of-1st-Quarter-2.png
END:VEVENT
BEGIN:VEVENT
DTSTART;TZID=America/Chicago:20260319T180000
DTEND;TZID=America/Chicago:20260319T220000
DTSTAMP:20260422T194706
CREATED:20251203T151705Z
LAST-MODIFIED:20251203T151705Z
UID:6628-1773943200-1773957600@theoliveschool.org
SUMMARY:Annual Spring Auction (Gym)
DESCRIPTION:6113 Hwy 518
URL:https://theoliveschool.org/event/annual-spring-auction-gym/
CATEGORIES:Fundraisers,School Events
END:VEVENT
BEGIN:VEVENT
DTSTART;VALUE=DATE:20260314
DTEND;VALUE=DATE:20260315
DTSTAMP:20260422T194706
CREATED:20250725T030155Z
LAST-MODIFIED:20250725T030155Z
UID:6389-1773446400-1773532799@theoliveschool.org
SUMMARY:ACEL Fine Arts Festival
DESCRIPTION:Festival celebrating vocal\, visual\, dramatic\, and instrumental arts
URL:https://theoliveschool.org/event/acel-fine-arts-festival/
LOCATION:LCU in Pineville
CATEGORIES:Arts
ATTACH;FMTTYPE=image/png:https://theoliveschool.org/wp-content/uploads/2025/07/ACEL-Room-Signs-Facebook-Cover-1.png
END:VEVENT
BEGIN:VEVENT
DTSTART;VALUE=DATE:20260305
DTEND;VALUE=DATE:20260307
DTSTAMP:20260422T194706
CREATED:20250725T025110Z
LAST-MODIFIED:20260305T215511Z
UID:6384-1772668800-1772841599@theoliveschool.org
SUMMARY:Field Trip to Ruston Community Theatre
DESCRIPTION:RCT Presents: The Stinky Cheese Man
URL:https://theoliveschool.org/event/tentative-field-trip-to-ruston-community-theatre-3/
LOCATION:Dixie Center for the Arts\, 212 N. Vienna St.\, Ruston\, LA\, United States
CATEGORIES:Arts
END:VEVENT
BEGIN:VEVENT
DTSTART;VALUE=DATE:20260302
DTEND;VALUE=DATE:20260307
DTSTAMP:20260422T194706
CREATED:20250725T024926Z
LAST-MODIFIED:20260219T135539Z
UID:6381-1772409600-1772841599@theoliveschool.org
SUMMARY:Read Across America Week!!
DESCRIPTION:
URL:https://theoliveschool.org/event/read-across-america-week/
CATEGORIES:Academics,School Events
ATTACH;FMTTYPE=image/png:https://theoliveschool.org/wp-content/uploads/2025/07/image0-2.png
END:VEVENT
BEGIN:VEVENT
DTSTART;TZID=America/Chicago:20260227T180000
DTEND;TZID=America/Chicago:20260227T210000
DTSTAMP:20260422T194706
CREATED:20250725T023740Z
LAST-MODIFIED:20260219T135044Z
UID:6377-1772215200-1772226000@theoliveschool.org
SUMMARY:9th Annual CLUE Banquet
DESCRIPTION:The drama class hosts an evening of dinner fellowship followed by a scavenger escape hunt activity. \nRegister here.
URL:https://theoliveschool.org/event/9th-annual-clue-banquet/
CATEGORIES:Arts,Fundraisers
ATTACH;FMTTYPE=image/jpeg:https://theoliveschool.org/wp-content/uploads/2025/07/Brown-Retro-Happy-New-Year-Recap-Instagram-Reel-scaled.jpg
END:VEVENT
BEGIN:VEVENT
DTSTART;VALUE=DATE:20260225
DTEND;VALUE=DATE:20260228
DTSTAMP:20260422T194706
CREATED:20250725T022553Z
LAST-MODIFIED:20250725T022553Z
UID:6375-1771977600-1772236799@theoliveschool.org
SUMMARY:Star Reading Test #5
DESCRIPTION:All students K-12 will take a reading test to measure their level of literacy.
URL:https://theoliveschool.org/event/star-reading-test-5/
CATEGORIES:Academics
ATTACH;FMTTYPE=image/png:https://theoliveschool.org/wp-content/uploads/2025/07/Renaissance-Star-Assessments-scaled.png
END:VEVENT
BEGIN:VEVENT
DTSTART;VALUE=DATE:20260216
DTEND;VALUE=DATE:20260217
DTSTAMP:20260422T194706
CREATED:20250725T021651Z
LAST-MODIFIED:20250725T021651Z
UID:6370-1771200000-1771286399@theoliveschool.org
SUMMARY:Presidents Day Holiday
DESCRIPTION:NO SCHOOL!
URL:https://theoliveschool.org/event/presidents-day-holiday/
CATEGORIES:Holidays
END:VEVENT
BEGIN:VEVENT
DTSTART;VALUE=DATE:20260214
DTEND;VALUE=DATE:20260215
DTSTAMP:20260422T194706
CREATED:20250725T021306Z
LAST-MODIFIED:20250729T193247Z
UID:6367-1771027200-1771113599@theoliveschool.org
SUMMARY:ACT
DESCRIPTION:Register by January 7; Late registration by January 21
URL:https://theoliveschool.org/event/act-4/
CATEGORIES:Academics,High School
ATTACH;FMTTYPE=image/png:https://theoliveschool.org/wp-content/uploads/2025/07/download.png
END:VEVENT
BEGIN:VEVENT
DTSTART;VALUE=DATE:20260209
DTEND;VALUE=DATE:20260214
DTSTAMP:20260422T194706
CREATED:20250725T022305Z
LAST-MODIFIED:20250725T022305Z
UID:6372-1770595200-1771027199@theoliveschool.org
SUMMARY:Spiritual Emphasis Week
DESCRIPTION:The senior class will guide the 7th-11th grades in a time away from academics to focus on the Lord.
URL:https://theoliveschool.org/event/spiritual-emphasis-week/
LOCATION:MOCS Gym
CATEGORIES:High School,School Events
ATTACH;FMTTYPE=image/png:https://theoliveschool.org/wp-content/uploads/2025/07/SEW-Rooted-in-faith-Facebook-Cover.png
END:VEVENT
BEGIN:VEVENT
DTSTART;VALUE=DATE:20260209
DTEND;VALUE=DATE:20260210
DTSTAMP:20260422T194706
CREATED:20250725T015552Z
LAST-MODIFIED:20250725T015552Z
UID:6362-1770595200-1770681599@theoliveschool.org
SUMMARY:Softball Season Begins
DESCRIPTION:
URL:https://theoliveschool.org/event/softball-season-begins/
CATEGORIES:Athletics
END:VEVENT
BEGIN:VEVENT
DTSTART;VALUE=DATE:20260206
DTEND;VALUE=DATE:20260208
DTSTAMP:20260422T194706
CREATED:20250725T015504Z
LAST-MODIFIED:20250725T015504Z
UID:6360-1770336000-1770508799@theoliveschool.org
SUMMARY:Basketball Championship
DESCRIPTION:
URL:https://theoliveschool.org/event/basketball-championship/
CATEGORIES:Athletics
END:VEVENT
BEGIN:VEVENT
DTSTART;VALUE=DATE:20260131
DTEND;VALUE=DATE:20260201
DTSTAMP:20260422T194706
CREATED:20250725T015112Z
LAST-MODIFIED:20250725T015300Z
UID:6355-1769817600-1769903999@theoliveschool.org
SUMMARY:ACEL Academic Festival
DESCRIPTION:Spelling Bee\, Geography Bowl\, and Bible Bowl
URL:https://theoliveschool.org/event/acel-academic-festival/
CATEGORIES:Academics
ATTACH;FMTTYPE=image/png:https://theoliveschool.org/wp-content/uploads/2025/07/ACEL-Room-Signs-Facebook-Cover.png
END:VEVENT
BEGIN:VEVENT
DTSTART;TZID=America/Chicago:20260128T084500
DTEND;TZID=America/Chicago:20260128T091500
DTSTAMP:20260422T194706
CREATED:20250725T015106Z
LAST-MODIFIED:20260109T153901Z
UID:6252-1769589900-1769591700@theoliveschool.org
SUMMARY:NHS/NJHS Induction Ceremony
DESCRIPTION:
URL:https://theoliveschool.org/event/nhs-njhs-induction-ceremony/
LOCATION:MOCS Auditorium
CATEGORIES:Academics
ATTACH;FMTTYPE=image/png:https://theoliveschool.org/wp-content/uploads/2025/07/Blue-Simple-Happy-Graduation-Ceremony-Facebook-Post-1.png
END:VEVENT
BEGIN:VEVENT
DTSTART;VALUE=DATE:20260122
DTEND;VALUE=DATE:20260123
DTSTAMP:20260422T194706
CREATED:20250725T014320Z
LAST-MODIFIED:20260120T223127Z
UID:6351-1769040000-1769126399@theoliveschool.org
SUMMARY:Midterm Report Cards Released
DESCRIPTION:
URL:https://theoliveschool.org/event/midterm-report-cards-released/
CATEGORIES:Academics
END:VEVENT
BEGIN:VEVENT
DTSTART;TZID=America/Chicago:20260120T080000
DTEND;TZID=America/Chicago:20260120T220000
DTSTAMP:20260422T194706
CREATED:20260113T204611Z
LAST-MODIFIED:20260113T204611Z
UID:6658-1768896000-1768946400@theoliveschool.org
SUMMARY:ASVAB Test for 10-12th
DESCRIPTION:
URL:https://theoliveschool.org/event/asvab-test-for-10-12th/
CATEGORIES:Academics,High School
END:VEVENT
BEGIN:VEVENT
DTSTART;VALUE=DATE:20260119
DTEND;VALUE=DATE:20260120
DTSTAMP:20260422T194706
CREATED:20250725T013700Z
LAST-MODIFIED:20250725T013700Z
UID:6347-1768780800-1768867199@theoliveschool.org
SUMMARY:MLKJ Day Holiday
DESCRIPTION:NO SCHOOL!
URL:https://theoliveschool.org/event/mlkj-day-holiday/
CATEGORIES:Holidays
END:VEVENT
BEGIN:VEVENT
DTSTART;VALUE=DATE:20260116
DTEND;VALUE=DATE:20260117
DTSTAMP:20260422T194706
CREATED:20250725T013320Z
LAST-MODIFIED:20250725T021551Z
UID:6342-1768521600-1768607999@theoliveschool.org
SUMMARY:End of 2nd Quarter
DESCRIPTION:
URL:https://theoliveschool.org/event/end-of-2nd-quarter/
CATEGORIES:Academics
ATTACH;FMTTYPE=image/png:https://theoliveschool.org/wp-content/uploads/2025/07/End-of-1st-Quarter-1.png
END:VEVENT
BEGIN:VEVENT
DTSTART;TZID=America/Chicago:20260115T180000
DTEND;TZID=America/Chicago:20260115T220000
DTSTAMP:20260422T194706
CREATED:20251208T140703Z
LAST-MODIFIED:20251208T140703Z
UID:6634-1768500000-1768514400@theoliveschool.org
SUMMARY:Winter Auction (Gym only)
DESCRIPTION:
URL:https://theoliveschool.org/event/winter-auction-gym-only/
CATEGORIES:Fundraisers,School Events
END:VEVENT
BEGIN:VEVENT
DTSTART;VALUE=DATE:20260115
DTEND;VALUE=DATE:20260117
DTSTAMP:20260422T194706
CREATED:20250725T013141Z
LAST-MODIFIED:20250725T013141Z
UID:6340-1768435200-1768607999@theoliveschool.org
SUMMARY:Midterm Exams
DESCRIPTION:Midterm Exams for 7th-12th grades
URL:https://theoliveschool.org/event/midterm-exams/
CATEGORIES:Academics
END:VEVENT
BEGIN:VEVENT
DTSTART;VALUE=DATE:20260114
DTEND;VALUE=DATE:20260117
DTSTAMP:20260422T194706
CREATED:20250725T012009Z
LAST-MODIFIED:20250725T023954Z
UID:6333-1768348800-1768607999@theoliveschool.org
SUMMARY:Star Reading Test #4
DESCRIPTION:All students K-12 will take a reading test to measure their level of literacy.
URL:https://theoliveschool.org/event/star-reading-test-4/
CATEGORIES:Academics
ATTACH;FMTTYPE=image/png:https://theoliveschool.org/wp-content/uploads/2025/07/Renaissance-Star-Assessments-scaled.png
END:VEVENT
END:VCALENDAR