BEGIN:VCALENDAR
VERSION:2.0
PRODID:-//MOCS - ECPv6.15.14//NONSGML v1.0//EN
CALSCALE:GREGORIAN
METHOD:PUBLISH
X-WR-CALNAME:MOCS
X-ORIGINAL-URL:https://theoliveschool.org
X-WR-CALDESC:Events for MOCS
REFRESH-INTERVAL;VALUE=DURATION:PT1H
X-Robots-Tag:noindex
X-PUBLISHED-TTL:PT1H
BEGIN:VTIMEZONE
TZID:America/Chicago
BEGIN:DAYLIGHT
TZOFFSETFROM:-0600
TZOFFSETTO:-0500
TZNAME:CDT
DTSTART:20240310T080000
END:DAYLIGHT
BEGIN:STANDARD
TZOFFSETFROM:-0500
TZOFFSETTO:-0600
TZNAME:CST
DTSTART:20241103T070000
END:STANDARD
BEGIN:DAYLIGHT
TZOFFSETFROM:-0600
TZOFFSETTO:-0500
TZNAME:CDT
DTSTART:20250309T080000
END:DAYLIGHT
BEGIN:STANDARD
TZOFFSETFROM:-0500
TZOFFSETTO:-0600
TZNAME:CST
DTSTART:20251102T070000
END:STANDARD
BEGIN:DAYLIGHT
TZOFFSETFROM:-0600
TZOFFSETTO:-0500
TZNAME:CDT
DTSTART:20260308T080000
END:DAYLIGHT
BEGIN:STANDARD
TZOFFSETFROM:-0500
TZOFFSETTO:-0600
TZNAME:CST
DTSTART:20261101T070000
END:STANDARD
BEGIN:DAYLIGHT
TZOFFSETFROM:-0600
TZOFFSETTO:-0500
TZNAME:CDT
DTSTART:20270314T080000
END:DAYLIGHT
BEGIN:STANDARD
TZOFFSETFROM:-0500
TZOFFSETTO:-0600
TZNAME:CST
DTSTART:20271107T070000
END:STANDARD
END:VTIMEZONE
BEGIN:VTIMEZONE
TZID:UTC
BEGIN:STANDARD
TZOFFSETFROM:+0000
TZOFFSETTO:+0000
TZNAME:UTC
DTSTART:20240101T000000
END:STANDARD
END:VTIMEZONE
BEGIN:VEVENT
DTSTART;VALUE=DATE:20260114
DTEND;VALUE=DATE:20260117
DTSTAMP:20260422T132901
CREATED:20250725T012009Z
LAST-MODIFIED:20250725T023954Z
UID:6333-1768348800-1768607999@theoliveschool.org
SUMMARY:Star Reading Test #4
DESCRIPTION:All students K-12 will take a reading test to measure their level of literacy.
URL:https://theoliveschool.org/event/star-reading-test-4/
CATEGORIES:Academics
ATTACH;FMTTYPE=image/png:https://theoliveschool.org/wp-content/uploads/2025/07/Renaissance-Star-Assessments-scaled.png
END:VEVENT
BEGIN:VEVENT
DTSTART;VALUE=DATE:20251213
DTEND;VALUE=DATE:20251214
DTSTAMP:20260422T132901
CREATED:20250725T002631Z
LAST-MODIFIED:20250729T200418Z
UID:6319-1765584000-1765670399@theoliveschool.org
SUMMARY:ACT
DESCRIPTION:Register by November 7; Late registration by November 24
URL:https://theoliveschool.org/event/act-3/
CATEGORIES:Academics,High School
ATTACH;FMTTYPE=image/png:https://theoliveschool.org/wp-content/uploads/2025/07/download.png
END:VEVENT
BEGIN:VEVENT
DTSTART;VALUE=DATE:20251112
DTEND;VALUE=DATE:20251115
DTSTAMP:20260422T132901
CREATED:20250724T232824Z
LAST-MODIFIED:20250725T012500Z
UID:6308-1762905600-1763164799@theoliveschool.org
SUMMARY:Star Reading Test #3
DESCRIPTION:All students K-12 will take a reading test to measure their level of literacy.
URL:https://theoliveschool.org/event/star-reading-test-3/
CATEGORIES:Academics
ATTACH;FMTTYPE=image/png:https://theoliveschool.org/wp-content/uploads/2025/07/Renaissance-Star-Assessments-scaled.png
END:VEVENT
BEGIN:VEVENT
DTSTART;VALUE=DATE:20251029
DTEND;VALUE=DATE:20251030
DTSTAMP:20260422T132901
CREATED:20250724T231300Z
LAST-MODIFIED:20250724T231300Z
UID:6297-1761696000-1761782399@theoliveschool.org
SUMMARY:First Quarter Report Cards Released
DESCRIPTION:
URL:https://theoliveschool.org/event/first-quarter-report-cards-released/
CATEGORIES:Academics
END:VEVENT
BEGIN:VEVENT
DTSTART;VALUE=DATE:20251024
DTEND;VALUE=DATE:20251025
DTSTAMP:20260422T132901
CREATED:20250724T230816Z
LAST-MODIFIED:20250724T230816Z
UID:6289-1761264000-1761350399@theoliveschool.org
SUMMARY:End of 1st Quarter
DESCRIPTION:
URL:https://theoliveschool.org/event/end-of-1st-quarter/
CATEGORIES:Academics
ATTACH;FMTTYPE=image/png:https://theoliveschool.org/wp-content/uploads/2025/07/End-of-1st-Quarter.png
END:VEVENT
BEGIN:VEVENT
DTSTART;VALUE=DATE:20251018
DTEND;VALUE=DATE:20251019
DTSTAMP:20260422T132901
CREATED:20250724T225420Z
LAST-MODIFIED:20250729T200542Z
UID:6287-1760745600-1760831999@theoliveschool.org
SUMMARY:ACT
DESCRIPTION:Register by September 12; Late registration by September 30
URL:https://theoliveschool.org/event/act-2/
CATEGORIES:Academics,High School
ATTACH;FMTTYPE=image/png:https://theoliveschool.org/wp-content/uploads/2025/07/download.png
END:VEVENT
BEGIN:VEVENT
DTSTART;VALUE=DATE:20251001
DTEND;VALUE=DATE:20251004
DTSTAMP:20260422T132901
CREATED:20250724T223907Z
LAST-MODIFIED:20250725T012421Z
UID:6272-1759276800-1759535999@theoliveschool.org
SUMMARY:Star Reading Test #2
DESCRIPTION:All students K-12 will take a reading test to measure their level of literacy.
URL:https://theoliveschool.org/event/star-reading-test-2/
CATEGORIES:Academics
ATTACH;FMTTYPE=image/png:https://theoliveschool.org/wp-content/uploads/2025/07/Renaissance-Star-Assessments-scaled.png
END:VEVENT
BEGIN:VEVENT
DTSTART;VALUE=DATE:20250906
DTEND;VALUE=DATE:20250907
DTSTAMP:20260422T132901
CREATED:20250725T012940Z
LAST-MODIFIED:20250729T200214Z
UID:6246-1757116800-1757203199@theoliveschool.org
SUMMARY:ACT
DESCRIPTION:Register by August 1; Late registration by August 19
URL:https://theoliveschool.org/event/act/
CATEGORIES:Academics,High School
ATTACH;FMTTYPE=image/png:https://theoliveschool.org/wp-content/uploads/2025/07/download.png
END:VEVENT
BEGIN:VEVENT
DTSTART;VALUE=DATE:20250827
DTEND;VALUE=DATE:20250830
DTSTAMP:20260422T132901
CREATED:20250725T011617Z
LAST-MODIFIED:20250725T012235Z
UID:6240-1756252800-1756511999@theoliveschool.org
SUMMARY:Star Reading Test #1
DESCRIPTION:All students K-12 will take a reading test to measure their level of literacy.
URL:https://theoliveschool.org/event/star-reading-test-1/
CATEGORIES:Academics
ATTACH;FMTTYPE=image/png:https://theoliveschool.org/wp-content/uploads/2025/07/Renaissance-Star-Assessments-scaled.png
END:VEVENT
END:VCALENDAR